BEGIN:VCALENDAR
PRODID:-//github.com/rianjs/ical.net//NONSGML ical.net 4.0//EN
VERSION:2.0
BEGIN:VEVENT
DESCRIPTION:Our annual Summer tournament organised from 4th July till end 
 of August.
DTEND:20240808T213000Z
DTSTAMP:20240711T015845Z
DTSTART:20240808T183000Z
LOCATION:Metropolitan
SEQUENCE:0
SUMMARY:Summer Tournament 2024 - 6th Round
UID:3614279a-4bbe-43c1-926b-160f72a6dafc
END:VEVENT
END:VCALENDAR
